BEGIN:VCALENDAR
VERSION:2.0
PRODID:spatie/icalendar-generator
NAME:Estancia Baseball Calendar
X-WR-CALNAME:Estancia Baseball Calendar
REFRESH-INTERVAL;VALUE=DURATION:PT30M
X-PUBLISHED-TTL:PT30M
BEGIN:VTIMEZONE
TZID:America/Los_Angeles
BEGIN:STANDARD
DTSTART:20251102T010000
TZOFFSETFROM:-0700
TZOFFSETTO:-0800
END:STANDARD
BEGIN:DAYLIGHT
DTSTART:20260308T010000
TZOFFSETFROM:-0800
TZOFFSETTO:-0700
END:DAYLIGHT
BEGIN:STANDARD
DTSTART:20261101T010000
TZOFFSETFROM:-0700
TZOFFSETTO:-0800
END:STANDARD
END:VTIMEZONE
BEGIN:VTIMEZONE
TZID:UTC
BEGIN:STANDARD
DTSTART:20250729T162143
TZOFFSETFROM:+0000
TZOFFSETTO:+0000
END:STANDARD
END:VTIMEZONE
BEGIN:VEVENT
UID:event-894888@estanciabaseball.boosterhub.com
DTSTAMP:20260425T162143Z
SUMMARY:JV vs La Quinta/W
DESCRIPTION:
LOCATION:Estancia Varsity Baseball Field
DTSTART;TZID=America/Los_Angeles:20260428T151500
DTEND;TZID=America/Los_Angeles:20260428T173000
END:VEVENT
BEGIN:VEVENT
UID:event-894891@estanciabaseball.boosterhub.com
DTSTAMP:20260425T162143Z
SUMMARY:JV @ La Quinta/W
DESCRIPTION:<p><a href=\"https://www.google.com/maps/place/La+Quinta+High+S
 chool/@33.737735\,-117.9495429\,934m/data=!3m2!1e3!4b1!4m6!3m5!1s0x80dd27a
 2147359c7:0x38c58e4a358c0df!8m2!3d33.7377306!4d-117.946968!16zL20vMDl3Y2di
 ?entry=ttu&amp\;g_ep=EgoyMDI2MDQwMS4wIKXMDSoASAFQAw%3D%3D\" rel=\"noopener
  noreferrer\" target=\"_blank\">LOCATION MAP</a></p>
LOCATION:La Quinta/Westminster High School
DTSTART;TZID=America/Los_Angeles:20260501T151500
DTEND;TZID=America/Los_Angeles:20260501T173000
END:VEVENT
BEGIN:VEVENT
UID:event-894892@estanciabaseball.boosterhub.com
DTSTAMP:20260425T162143Z
SUMMARY:JV @ Bolsa Grande
DESCRIPTION:
LOCATION:Bolsa Grande High School
DTSTART;TZID=America/Los_Angeles:20260505T151500
DTEND;TZID=America/Los_Angeles:20260505T173000
END:VEVENT
BEGIN:VEVENT
UID:event-894896@estanciabaseball.boosterhub.com
DTSTAMP:20260425T162143Z
SUMMARY:Varsity vs Western
DESCRIPTION:
LOCATION:Estancia Varsity Baseball Field
DTSTART;TZID=America/Los_Angeles:20260424T151500
DTEND;TZID=America/Los_Angeles:20260424T173000
END:VEVENT
BEGIN:VEVENT
UID:event-894897@estanciabaseball.boosterhub.com
DTSTAMP:20260425T162143Z
SUMMARY:Varsity vs La Quinta/W
DESCRIPTION:
LOCATION:Estancia Varsity Baseball Field
DTSTART;TZID=America/Los_Angeles:20260501T151500
DTEND;TZID=America/Los_Angeles:20260501T173000
END:VEVENT
BEGIN:VEVENT
UID:event-894898@estanciabaseball.boosterhub.com
DTSTAMP:20260425T162143Z
SUMMARY:Varsity vs Bolsa Grande
DESCRIPTION:
LOCATION:Estancia Varsity Baseball Field
DTSTART;TZID=America/Los_Angeles:20260505T161500
DTEND;TZID=America/Los_Angeles:20260505T180000
END:VEVENT
BEGIN:VEVENT
UID:event-894903@estanciabaseball.boosterhub.com
DTSTAMP:20260425T162143Z
SUMMARY:Varsity @  La Quinta/W
DESCRIPTION:<p><a href=\"https://www.google.com/maps/place/La+Quinta+High+S
 chool/@33.737735\,-117.9495429\,934m/data=!3m2!1e3!4b1!4m6!3m5!1s0x80dd27a
 2147359c7:0x38c58e4a358c0df!8m2!3d33.7377306!4d-117.946968!16zL20vMDl3Y2di
 ?entry=ttu&amp\;g_ep=EgoyMDI2MDQwMS4wIKXMDSoASAFQAw%3D%3D\" rel=\"noopener
  noreferrer\" target=\"_blank\">LOCATION MAP</a></p>
LOCATION:La Quinta/Westminster High School
DTSTART;TZID=America/Los_Angeles:20260428T151500
DTEND;TZID=America/Los_Angeles:20260428T173000
END:VEVENT
BEGIN:VEVENT
UID:event-894904@estanciabaseball.boosterhub.com
DTSTAMP:20260425T162143Z
SUMMARY:Varsity @ Bosco Tech
DESCRIPTION:<p>LOCATION MAP</p>
LOCATION:Bosco Tech High School
DTSTART;TZID=America/Los_Angeles:20260502T100000
DTEND;TZID=America/Los_Angeles:20260502T130000
END:VEVENT
BEGIN:VEVENT
UID:event-958683@estanciabaseball.boosterhub.com
DTSTAMP:20260425T162143Z
SUMMARY:JV Baseball Practice
DESCRIPTION:
LOCATION:Estancia Varsity Baseball Field
DTSTART;TZID=America/Los_Angeles:20260424T143000
DTEND;TZID=America/Los_Angeles:20260424T170000
END:VEVENT
BEGIN:VEVENT
UID:event-958684@estanciabaseball.boosterhub.com
DTSTAMP:20260425T162143Z
SUMMARY:Practice
DESCRIPTION:
LOCATION:Estancia Varsity Baseball Field
DTSTART;TZID=America/Los_Angeles:20260427T143000
DTEND;TZID=America/Los_Angeles:20260427T170000
END:VEVENT
BEGIN:VEVENT
UID:event-958685@estanciabaseball.boosterhub.com
DTSTAMP:20260425T162143Z
SUMMARY:Practice
DESCRIPTION:
LOCATION:Estancia Varsity Baseball Field
DTSTART;TZID=America/Los_Angeles:20260429T143000
DTEND;TZID=America/Los_Angeles:20260429T170000
END:VEVENT
BEGIN:VEVENT
UID:event-958686@estanciabaseball.boosterhub.com
DTSTAMP:20260425T162143Z
SUMMARY:Practice
DESCRIPTION:
LOCATION:Estancia Varsity Baseball Field
DTSTART;TZID=America/Los_Angeles:20260430T143000
DTEND;TZID=America/Los_Angeles:20260430T170000
END:VEVENT
BEGIN:VEVENT
UID:event-958687@estanciabaseball.boosterhub.com
DTSTAMP:20260425T162143Z
SUMMARY:Practice
DESCRIPTION:
LOCATION:Estancia Varsity Baseball Field
DTSTART;TZID=America/Los_Angeles:20260504T143000
DTEND;TZID=America/Los_Angeles:20260504T170000
END:VEVENT
BEGIN:VEVENT
UID:event-1122345@estanciabaseball.boosterhub.com
DTSTAMP:20260425T162143Z
SUMMARY:Varsity @ Rancho Alamitos
DESCRIPTION:
LOCATION:Rancho Alamitos High School
DTSTART;TZID=America/Los_Angeles:20260506T151500
DTEND;TZID=America/Los_Angeles:20260506T173000
END:VEVENT
END:VCALENDAR